![]() | Name | Last modified | Size | Description |
---|---|---|---|---|
![]() | Parent Directory | - | ||
![]() | buildsrc-out.txt | 27-Sep-2023 03:51 | 774 | |
![]() | buildsrc-summary.dcf | 27-Sep-2023 03:51 | 447 | |
![]() | checksrc-out.txt | 27-Sep-2023 03:51 | 3.1K | |
![]() | checksrc-summary.dcf | 27-Sep-2023 03:51 | 453 | |
![]() | install-out.txt | 27-Sep-2023 03:51 | 958 | |
![]() | install-summary.dcf | 27-Sep-2023 03:51 | 278 | |