Name | Last modified | Size | Description | |
---|---|---|---|---|
Parent Directory | - | |||
buildsrc-out.txt | 31-May-2024 03:51 | 829 | ||
buildsrc-summary.dcf | 31-May-2024 03:51 | 440 | ||
checksrc-out.txt | 31-May-2024 03:51 | 2.8K | ||
checksrc-summary.dcf | 31-May-2024 03:51 | 446 | ||
install-out.txt | 31-May-2024 03:51 | 1.1K | ||
install-summary.dcf | 31-May-2024 03:51 | 275 | ||