Name | Last modified | Size | Description | |
---|---|---|---|---|
Parent Directory | - | |||
buildsrc-out.txt | 26-Jul-2024 03:51 | 810 | ||
buildsrc-summary.dcf | 26-Jul-2024 03:51 | 420 | ||
checksrc-out.txt | 26-Jul-2024 03:51 | 3.1K | ||
checksrc-summary.dcf | 26-Jul-2024 03:51 | 417 | ||
install-out.txt | 26-Jul-2024 03:51 | 955 | ||
install-summary.dcf | 26-Jul-2024 03:51 | 260 | ||