Name | Last modified | Size | Description | |
---|---|---|---|---|
Parent Directory | - | |||
buildsrc-out.txt | 26-Jul-2024 03:51 | 817 | ||
buildsrc-summary.dcf | 26-Jul-2024 03:51 | 431 | ||
checksrc-out.txt | 26-Jul-2024 03:51 | 3.1K | ||
checksrc-summary.dcf | 26-Jul-2024 03:51 | 439 | ||
install-out.txt | 26-Jul-2024 03:51 | 1.3K | ||
install-summary.dcf | 26-Jul-2024 03:51 | 268 | ||