Name | Last modified | Size | Description | |
---|---|---|---|---|
Parent Directory | - | |||
install-summary.dcf | 26-Jul-2024 03:51 | 274 | ||
buildsrc-summary.dcf | 26-Jul-2024 03:51 | 439 | ||
checksrc-summary.dcf | 26-Jul-2024 03:51 | 451 | ||
buildsrc-out.txt | 26-Jul-2024 03:51 | 829 | ||
install-out.txt | 26-Jul-2024 03:51 | 1.2K | ||
checksrc-out.txt | 26-Jul-2024 03:51 | 7.0K | ||