Back to Build/check report for BioC 3.19 experimental data
AB[C]DEFGHIJKLMNOPQRSTUVWXYZ

This page was generated on 2024-03-26 14:51:26 -0400 (Tue, 26 Mar 2024).

HostnameOSArch (*)R versionInstalled pkgs
nebbiolo1Linux (Ubuntu 22.04.3 LTS)x86_64R Under development (unstable) (2024-03-18 r86148) -- "Unsuffered Consequences" 4698
Click on any hostname to see more info about the system (e.g. compilers)      (*) as reported by 'uname -p', except on Windows and Mac OS X

Package 86/425HostnameOS / ArchINSTALLBUILDCHECK
curatedTCGAData 1.25.4  (landing page)
Marcel Ramos
Snapshot Date: 2024-03-26 07:30:03 -0400 (Tue, 26 Mar 2024)
git_url: https://git.bioconductor.org/packages/curatedTCGAData
git_branch: devel
git_last_commit: b5220b4
git_last_commit_date: 2024-02-06 15:21:49 -0400 (Tue, 06 Feb 2024)
nebbiolo1Linux (Ubuntu 22.04.3 LTS) / x86_64  OK    OK    WARNINGS  UNNEEDED, same version is already published

INSTALL results for curatedTCGAData on nebbiolo1


To the developers/maintainers of the curatedTCGAData package:
- Use the following Renviron settings to reproduce errors and warnings.
- If 'R CMD check' started to fail recently on the Linux builder(s) over a missing dependency, add the missing dependency to 'Suggests:' in your DESCRIPTION file. See Renviron.bioc for more information.

raw results


Summary

Package: curatedTCGAData
Version: 1.25.4
Command: /home/biocbuild/bbs-3.19-bioc/R/bin/R CMD INSTALL curatedTCGAData
StartedAt: 2024-03-26 10:06:15 -0400 (Tue, 26 Mar 2024)
EndedAt: 2024-03-26 10:06:43 -0400 (Tue, 26 Mar 2024)
EllapsedTime: 27.8 seconds
RetCode: 0
Status:   OK  

Command output

##############################################################################
##############################################################################
###
### Running command:
###
###   /home/biocbuild/bbs-3.19-bioc/R/bin/R CMD INSTALL curatedTCGAData
###
##############################################################################
##############################################################################


* installing to library ‘/home/biocbuild/bbs-3.19-bioc/R/site-library’
* installing *source* package ‘curatedTCGAData’ ...
** using staged installation
** R
** inst
** byte-compile and prepare package for lazy loading
** help
*** installing help indices
** building package indices
** installing vignettes
** testing if installed package can be loaded from temporary location
** testing if installed package can be loaded from final location
** testing if installed package keeps a record of temporary installation path
* DONE (curatedTCGAData)