Name | Last modified | Size | Description | |
---|---|---|---|---|
Parent Directory | - | |||
install-summary.dcf | 26-Jun-2024 03:51 | 280 | ||
install-out.txt | 26-Jun-2024 03:51 | 935 | ||
checksrc-summary.dcf | 26-Jun-2024 03:51 | 458 | ||
checksrc-out.txt | 26-Jun-2024 03:51 | 3.2K | ||
buildsrc-summary.dcf | 26-Jun-2024 03:51 | 451 | ||
buildsrc-out.txt | 26-Jun-2024 03:51 | 916 | ||