Index of /checkResults/devel/data-experiment-LATEST/cancerdata/raw-results
Name
Last modified
Size
Description
Parent Directory
-
info.dcf
27-Sep-2023 03:51
276
nebbiolo2/
27-Sep-2023 03:51
-