Back to Build/check report for BioC 3.19 experimental data
A[B]CDEFGHIJKLMNOPQRSTUVWXYZ

This page was generated on 2024-03-26 14:51:26 -0400 (Tue, 26 Mar 2024).

HostnameOSArch (*)R versionInstalled pkgs
nebbiolo1Linux (Ubuntu 22.04.3 LTS)x86_64R Under development (unstable) (2024-03-18 r86148) -- "Unsuffered Consequences" 4698
Click on any hostname to see more info about the system (e.g. compilers)      (*) as reported by 'uname -p', except on Windows and Mac OS X

Package 42/425HostnameOS / ArchINSTALLBUILDCHECK
bronchialIL13 1.41.0  (landing page)
Vince Carey
Snapshot Date: 2024-03-26 07:30:03 -0400 (Tue, 26 Mar 2024)
git_url: https://git.bioconductor.org/packages/bronchialIL13
git_branch: devel
git_last_commit: ab79202
git_last_commit_date: 2023-10-24 08:53:18 -0400 (Tue, 24 Oct 2023)
nebbiolo1Linux (Ubuntu 22.04.3 LTS) / x86_64  OK    OK    OK  UNNEEDED, same version is already published

CHECK results for bronchialIL13 on nebbiolo1


To the developers/maintainers of the bronchialIL13 package:
- Use the following Renviron settings to reproduce errors and warnings.
- If 'R CMD check' started to fail recently on the Linux builder(s) over a missing dependency, add the missing dependency to 'Suggests:' in your DESCRIPTION file. See Renviron.bioc for more information.

raw results


Summary

Package: bronchialIL13
Version: 1.41.0
Command: /home/biocbuild/bbs-3.19-bioc/R/bin/R CMD check --install=check:bronchialIL13.install-out.txt --library=/home/biocbuild/bbs-3.19-bioc/R/site-library --timings bronchialIL13_1.41.0.tar.gz
StartedAt: 2024-03-26 11:17:57 -0400 (Tue, 26 Mar 2024)
EndedAt: 2024-03-26 11:18:20 -0400 (Tue, 26 Mar 2024)
EllapsedTime: 23.3 seconds
RetCode: 0
Status:   OK  
CheckDir: bronchialIL13.Rcheck
Warnings: 0

Command output

##############################################################################
##############################################################################
###
### Running command:
###
###   /home/biocbuild/bbs-3.19-bioc/R/bin/R CMD check --install=check:bronchialIL13.install-out.txt --library=/home/biocbuild/bbs-3.19-bioc/R/site-library --timings bronchialIL13_1.41.0.tar.gz
###
##############################################################################
##############################################################################


* using log directory ‘/home/biocbuild/bbs-3.19-data-experiment/meat/bronchialIL13.Rcheck’
* using R Under development (unstable) (2024-03-18 r86148)
* using platform: x86_64-pc-linux-gnu
* R was compiled by
    gcc (Ubuntu 11.4.0-1ubuntu1~22.04) 11.4.0
    GNU Fortran (Ubuntu 11.4.0-1ubuntu1~22.04) 11.4.0
* running under: Ubuntu 22.04.4 LTS
* using session charset: UTF-8
* checking for file ‘bronchialIL13/DESCRIPTION’ ... OK
* this is package ‘bronchialIL13’ version ‘1.41.0’
* checking package namespace information ... OK
* checking package dependencies ... OK
* checking if this is a source package ... OK
* checking if there is a namespace ... OK
* checking for hidden files and directories ... OK
* checking for portable file names ... OK
* checking for sufficient/correct file permissions ... OK
* checking whether package ‘bronchialIL13’ can be installed ... OK
* checking installed package size ... NOTE
  installed size is 69.3Mb
  sub-directories of 1Mb or more:
    cel   53.5Mb
    data  15.7Mb
* checking package directory ... OK
* checking DESCRIPTION meta-information ... NOTE
Malformed Description field: should contain one or more complete sentences.
* checking top-level files ... OK
* checking for left-over files ... OK
* checking index information ... OK
* checking package subdirectories ... OK
* checking whether the package can be loaded ... OK
* checking whether the package can be loaded with stated dependencies ... OK
* checking whether the package can be unloaded cleanly ... OK
* checking whether the namespace can be loaded with stated dependencies ... OK
* checking whether the namespace can be unloaded cleanly ... OK
* checking loading without being on the library search path ... OK
* checking Rd files ... OK
* checking Rd metadata ... OK
* checking Rd cross-references ... OK
* checking for missing documentation entries ... OK
* checking for code/documentation mismatches ... OK
* checking Rd \usage sections ... OK
* checking Rd contents ... OK
* checking for unstated dependencies in examples ... OK
* checking contents of ‘data’ directory ... OK
* checking data for non-ASCII characters ... OK
* checking data for ASCII and uncompressed saves ... OK
* checking examples ... OK
* checking PDF version of manual ... OK
* DONE

Status: 2 NOTEs
See
  ‘/home/biocbuild/bbs-3.19-data-experiment/meat/bronchialIL13.Rcheck/00check.log’
for details.


Installation output

bronchialIL13.Rcheck/00install.out

##############################################################################
##############################################################################
###
### Running command:
###
###   /home/biocbuild/bbs-3.19-bioc/R/bin/R CMD INSTALL bronchialIL13
###
##############################################################################
##############################################################################


* installing to library ‘/home/biocbuild/bbs-3.19-bioc/R/site-library’
* installing *source* package ‘bronchialIL13’ ...
** using staged installation
** data
** inst
** help
*** installing help indices
** building package indices
** testing if installed package can be loaded from temporary location
** testing if installed package can be loaded from final location
** testing if installed package keeps a record of temporary installation path
* DONE (bronchialIL13)

Tests output


Example timings

bronchialIL13.Rcheck/bronchialIL13-Ex.timings

nameusersystemelapsed
il13tc0.0690.0040.073