Index of /checkResults/devel/data-experiment-LATEST/breastCancerUNT/raw-results
Name
Last modified
Size
Description
Parent Directory
-
info.dcf
12-Jun-2024 03:51
341
nebbiolo2/
12-Jun-2024 03:51
-