Name | Last modified | Size | Description | |
---|---|---|---|---|
Parent Directory | - | |||
install-summary.dcf | 26-Jul-2024 03:51 | 278 | ||
install-out.txt | 26-Jul-2024 03:51 | 900 | ||
checksrc-summary.dcf | 26-Jul-2024 03:51 | 459 | ||
checksrc-out.txt | 26-Jul-2024 03:51 | 3.0K | ||
buildsrc-summary.dcf | 26-Jul-2024 03:51 | 445 | ||
buildsrc-out.txt | 26-Jul-2024 03:51 | 944 | ||