Index of /checkResults/devel/data-experiment-LATEST/benchmarkfdrData2019/raw-results
Name
Last modified
Size
Description
Parent Directory
-
info.dcf
03-May-2024 03:51
289
nebbiolo2/
03-May-2024 03:51
-