Name | Last modified | Size | Description | |
---|---|---|---|---|
Parent Directory | - | |||
checksrc-summary.dcf | 26-Jun-2024 03:51 | 449 | ||
checksrc-out.txt | 26-Jun-2024 03:51 | 2.9K | ||
install-summary.dcf | 26-Jun-2024 03:51 | 276 | ||
install-out.txt | 26-Jun-2024 03:51 | 932 | ||
buildsrc-summary.dcf | 26-Jun-2024 03:51 | 443 | ||
buildsrc-out.txt | 26-Jun-2024 03:51 | 770 | ||