Index of /checkResults/devel/data-experiment-LATEST/affydata/raw-results
Name
Last modified
Size
Description
Parent Directory
-
info.dcf
17-May-2024 03:51
274
nebbiolo2/
17-May-2024 03:51
-