Back to Build/check report for BioC 3.19 experimental data
ABCDEFGHIJKLMNOPQRSTUV[W]XYZ

This page was generated on 2024-03-26 14:51:27 -0400 (Tue, 26 Mar 2024).

HostnameOSArch (*)R versionInstalled pkgs
nebbiolo1Linux (Ubuntu 22.04.3 LTS)x86_64R Under development (unstable) (2024-03-18 r86148) -- "Unsuffered Consequences" 4698
Click on any hostname to see more info about the system (e.g. compilers)      (*) as reported by 'uname -p', except on Windows and Mac OS X

Package 417/425HostnameOS / ArchINSTALLBUILDCHECK
WGSmapp 1.15.0  (landing page)
Rujin Wang
Snapshot Date: 2024-03-26 07:30:03 -0400 (Tue, 26 Mar 2024)
git_url: https://git.bioconductor.org/packages/WGSmapp
git_branch: devel
git_last_commit: 05e40e5
git_last_commit_date: 2023-10-24 09:20:33 -0400 (Tue, 24 Oct 2023)
nebbiolo1Linux (Ubuntu 22.04.3 LTS) / x86_64  OK    OK    WARNINGS  UNNEEDED, same version is already published

INSTALL results for WGSmapp on nebbiolo1


To the developers/maintainers of the WGSmapp package:
- Use the following Renviron settings to reproduce errors and warnings.
- If 'R CMD check' started to fail recently on the Linux builder(s) over a missing dependency, add the missing dependency to 'Suggests:' in your DESCRIPTION file. See Renviron.bioc for more information.

raw results


Summary

Package: WGSmapp
Version: 1.15.0
Command: /home/biocbuild/bbs-3.19-bioc/R/bin/R CMD INSTALL WGSmapp
StartedAt: 2024-03-26 10:04:04 -0400 (Tue, 26 Mar 2024)
EndedAt: 2024-03-26 10:04:48 -0400 (Tue, 26 Mar 2024)
EllapsedTime: 44.6 seconds
RetCode: 0
Status:   OK  

Command output

##############################################################################
##############################################################################
###
### Running command:
###
###   /home/biocbuild/bbs-3.19-bioc/R/bin/R CMD INSTALL WGSmapp
###
##############################################################################
##############################################################################


* installing to library ‘/home/biocbuild/bbs-3.19-bioc/R/site-library’
* installing *source* package ‘WGSmapp’ ...
** using staged installation
** R
** data
*** moving datasets to lazyload DB
** inst
** byte-compile and prepare package for lazy loading
** help
*** installing help indices
** building package indices
** testing if installed package can be loaded from temporary location
** testing if installed package can be loaded from final location
** testing if installed package keeps a record of temporary installation path
* DONE (WGSmapp)