Name | Last modified | Size | Description | |
---|---|---|---|---|
Parent Directory | - | |||
buildsrc-out.txt | 26-Jul-2024 03:51 | 845 | ||
buildsrc-summary.dcf | 26-Jul-2024 03:51 | 445 | ||
checksrc-out.txt | 26-Jul-2024 03:51 | 3.2K | ||
checksrc-summary.dcf | 26-Jul-2024 03:51 | 452 | ||
install-out.txt | 26-Jul-2024 03:51 | 1.0K | ||
install-summary.dcf | 26-Jul-2024 03:51 | 278 | ||