Name | Last modified | Size | Description | |
---|---|---|---|---|
Parent Directory | - | |||
install-out.txt | 26-Jul-2024 03:51 | 1.0K | ||
install-summary.dcf | 26-Jul-2024 03:51 | 292 | ||
buildsrc-out.txt | 26-Jul-2024 03:51 | 1.5K | ||
buildsrc-summary.dcf | 26-Jul-2024 03:51 | 468 | ||
checksrc-out.txt | 26-Jul-2024 03:51 | 4.1K | ||
checksrc-summary.dcf | 26-Jul-2024 03:51 | 481 | ||