Index of /checkResults/devel/data-experiment-LATEST/SingleMoleculeFootprintingData/raw-results/nebbiolo2

[ICO]NameLast modifiedSizeDescription

[DIR]Parent Directory  -  
[TXT]buildsrc-out.txt14-Jun-2024 03:51 938  
[   ]buildsrc-summary.dcf14-Jun-2024 03:51 486  
[TXT]checksrc-out.txt14-Jun-2024 03:51 3.4K 
[   ]checksrc-summary.dcf14-Jun-2024 03:51 506  
[TXT]install-out.txt14-Jun-2024 03:51 1.0K 
[   ]install-summary.dcf14-Jun-2024 03:51 304