Name | Last modified | Size | Description | |
---|---|---|---|---|
Parent Directory | - | |||
buildsrc-out.txt | 26-Jul-2024 03:51 | 885 | ||
buildsrc-summary.dcf | 26-Jul-2024 03:51 | 430 | ||
checksrc-out.txt | 26-Jul-2024 03:51 | 3.2K | ||
checksrc-summary.dcf | 26-Jul-2024 03:51 | 435 | ||
install-out.txt | 26-Jul-2024 03:51 | 914 | ||
install-summary.dcf | 26-Jul-2024 03:51 | 266 | ||