Index of /checkResults/devel/data-experiment-LATEST/STexampleData/raw-results
Name
Last modified
Size
Description
Parent Directory
-
info.dcf
02-Jun-2023 03:51
282
nebbiolo2/
02-Jun-2023 03:51
-