Index of /checkResults/devel/data-experiment-LATEST/SNPhoodData/raw-results
Name
Last modified
Size
Description
Parent Directory
-
info.dcf
06-Dec-2023 04:51
280
nebbiolo1/
06-Dec-2023 04:51
-