Name | Last modified | Size | Description | |
---|---|---|---|---|
Parent Directory | - | |||
buildsrc-summary.dcf | 26-Jul-2024 03:51 | 415 | ||
install-out.txt | 26-Jul-2024 03:51 | 952 | ||
install-summary.dcf | 26-Jul-2024 03:51 | 258 | ||
buildsrc-out.txt | 26-Jul-2024 03:51 | 805 | ||
checksrc-out.txt | 26-Jul-2024 03:51 | 3.2K | ||
checksrc-summary.dcf | 26-Jul-2024 03:51 | 412 | ||