Name | Last modified | Size | Description | |
---|---|---|---|---|
Parent Directory | - | |||
install-summary.dcf | 26-Jul-2024 03:51 | 271 | ||
buildsrc-summary.dcf | 26-Jul-2024 03:51 | 435 | ||
checksrc-summary.dcf | 26-Jul-2024 03:51 | 438 | ||
buildsrc-out.txt | 26-Jul-2024 03:51 | 893 | ||
install-out.txt | 26-Jul-2024 03:51 | 970 | ||
checksrc-out.txt | 26-Jul-2024 03:51 | 3.5K | ||