Back to Build/check report for BioC 3.17 experimental data
ABCDEFGHIJKLMNOPQ[R]STUVWXYZ

This page was generated on 2023-03-16 14:51:35 -0400 (Thu, 16 Mar 2023).

HostnameOSArch (*)R versionInstalled pkgs
nebbiolo1Linux (Ubuntu 22.04.1 LTS)x86_64R Under development (unstable) (2023-01-10 r83596) -- "Unsuffered Consequences" 4540
Click on any hostname to see more info about the system (e.g. compilers)      (*) as reported by 'uname -p', except on Windows and Mac OS X

INSTALL results for RnBeads.mm9 on nebbiolo1


To the developers/maintainers of the RnBeads.mm9 package:
Make sure to use the following settings in order to reproduce any error or warning you see on this page.

raw results

Package 325/417HostnameOS / ArchINSTALLBUILDCHECK
RnBeads.mm9 1.31.0  (landing page)
RnBeadsAnnotationCreator
Snapshot Date: 2023-03-16 07:30:02 -0400 (Thu, 16 Mar 2023)
git_url: https://git.bioconductor.org/packages/RnBeads.mm9
git_branch: master
git_last_commit: 26802c7
git_last_commit_date: 2022-11-01 11:06:33 -0400 (Tue, 01 Nov 2022)
nebbiolo1Linux (Ubuntu 22.04.1 LTS) / x86_64  OK    OK    WARNINGS  UNNEEDED, same version is already published

Summary

Package: RnBeads.mm9
Version: 1.31.0
Command: /home/biocbuild/bbs-3.17-bioc/R/bin/R CMD INSTALL RnBeads.mm9
StartedAt: 2023-03-16 10:05:22 -0400 (Thu, 16 Mar 2023)
EndedAt: 2023-03-16 10:05:30 -0400 (Thu, 16 Mar 2023)
EllapsedTime: 7.7 seconds
RetCode: 0
Status:   OK  

Command output

##############################################################################
##############################################################################
###
### Running command:
###
###   /home/biocbuild/bbs-3.17-bioc/R/bin/R CMD INSTALL RnBeads.mm9
###
##############################################################################
##############################################################################


* installing to library ‘/home/biocbuild/bbs-3.17-bioc/R/library’
* installing *source* package ‘RnBeads.mm9’ ...
** using staged installation
** R
** data
** inst
** byte-compile and prepare package for lazy loading
** help
*** installing help indices
** building package indices
** testing if installed package can be loaded from temporary location
** testing if installed package can be loaded from final location
** testing if installed package keeps a record of temporary installation path
* DONE (RnBeads.mm9)