Back to Build/check report for BioC 3.19 experimental data
ABCDEFGHIJKLMNOPQ[R]STUVWXYZ

This page was generated on 2024-02-22 14:51:24 -0500 (Thu, 22 Feb 2024).

HostnameOSArch (*)R versionInstalled pkgs
nebbiolo1Linux (Ubuntu 22.04.3 LTS)x86_64R Under development (unstable) (2024-01-16 r85808) -- "Unsuffered Consequences" 4657
Click on any hostname to see more info about the system (e.g. compilers)      (*) as reported by 'uname -p', except on Windows and Mac OS X

Package 328/422HostnameOS / ArchINSTALLBUILDCHECK
RnBeads.mm9 1.35.0  (landing page)
RnBeadsAnnotationCreator
Snapshot Date: 2024-02-22 07:30:02 -0500 (Thu, 22 Feb 2024)
git_url: https://git.bioconductor.org/packages/RnBeads.mm9
git_branch: devel
git_last_commit: 6f2a17a
git_last_commit_date: 2023-10-24 09:10:32 -0500 (Tue, 24 Oct 2023)
nebbiolo1Linux (Ubuntu 22.04.3 LTS) / x86_64  OK    OK    WARNINGS  UNNEEDED, same version is already published

BUILD results for RnBeads.mm9 on nebbiolo1


To the developers/maintainers of the RnBeads.mm9 package:
- Use the following Renviron settings to reproduce errors and warnings.
- If 'R CMD check' started to fail recently on the Linux builder(s) over a missing dependency, add the missing dependency to 'Suggests:' in your DESCRIPTION file. See Renviron.bioc for more information.

raw results


Summary

Package: RnBeads.mm9
Version: 1.35.0
Command: /home/biocbuild/bbs-3.19-bioc/R/bin/R CMD build --keep-empty-dirs --no-resave-data RnBeads.mm9
StartedAt: 2024-02-22 10:47:20 -0500 (Thu, 22 Feb 2024)
EndedAt: 2024-02-22 10:47:27 -0500 (Thu, 22 Feb 2024)
EllapsedTime: 7.0 seconds
RetCode: 0
Status:   OK  
PackageFile: RnBeads.mm9_1.35.0.tar.gz
PackageFileSize: 94.41 MiB

Command output

##############################################################################
##############################################################################
###
### Running command:
###
###   /home/biocbuild/bbs-3.19-bioc/R/bin/R CMD build --keep-empty-dirs --no-resave-data RnBeads.mm9
###
##############################################################################
##############################################################################


* checking for file ‘RnBeads.mm9/DESCRIPTION’ ... OK
* preparing ‘RnBeads.mm9’:
* checking DESCRIPTION meta-information ... OK
* checking for LF line-endings in source and make files and shell scripts
* checking for empty or unneeded directories
* looking to see if a ‘data/datalist’ file should be added
  NB: this package now depends on R (>= 3.5.0)
  WARNING: Added dependency on R >= 3.5.0 because serialized objects in
  serialize/load version 3 cannot be read in older versions of R.
  File(s) containing such objects:
    ‘RnBeads.mm9/data/CpG.RData’ ‘RnBeads.mm9/data/mm9.CpG.RData’
    ‘RnBeads.mm9/data/mm9.regions.RData’ ‘RnBeads.mm9/data/regions.RData’
* building ‘RnBeads.mm9_1.35.0.tar.gz’