Index of /checkResults/devel/data-experiment-LATEST/RnBeads.hg19/raw-results
Name
Last modified
Size
Description
Parent Directory
-
info.dcf
27-Mar-2024 03:51
288
nebbiolo1/
27-Mar-2024 03:51
-