Index of /checkResults/devel/data-experiment-LATEST/RcisTarget.hg19.motifDBs.cisbpOnly.500bp/raw-results

[ICO]NameLast modifiedSizeDescription

[DIR]Parent Directory  -  
[   ]info.dcf24-May-2024 03:51 334  
[DIR]nebbiolo2/24-May-2024 03:51 -