Index of /checkResults/devel/data-experiment-LATEST/RTCGA.rnaseq/raw-results
Name
Last modified
Size
Description
Parent Directory
-
nebbiolo2/
26-Jul-2024 03:51
-
info.dcf
26-Jul-2024 03:51
286