Index of /checkResults/devel/data-experiment-LATEST/RTCGA.RPPA/raw-results
Name
Last modified
Size
Description
Parent Directory
-
nebbiolo2/
12-Jun-2024 03:51
-
info.dcf
12-Jun-2024 03:51
275