Index of /checkResults/devel/data-experiment-LATEST/RNAinteractMAPK/raw-results/nebbiolo2

[ICO]NameLast modifiedSizeDescription

[DIR]Parent Directory  -  
[TXT]buildsrc-out.txt05-Aug-2022 03:50 901  
[   ]buildsrc-summary.dcf05-Aug-2022 03:50 440  
[TXT]checksrc-out.txt05-Aug-2022 03:50 3.4K 
[   ]checksrc-summary.dcf05-Aug-2022 03:50 456  
[TXT]install-out.txt05-Aug-2022 03:50 1.0K 
[   ]install-summary.dcf05-Aug-2022 03:50 275