Index of /checkResults/devel/data-experiment-LATEST/RNAinteractMAPK/raw-results
Name
Last modified
Size
Description
Parent Directory
-
info.dcf
05-Aug-2022 03:50
277
nebbiolo2/
05-Aug-2022 03:50
-