Index of /checkResults/devel/data-experiment-LATEST/RGMQLlib/raw-results
Name
Last modified
Size
Description
Parent Directory
-
nebbiolo2/
08-May-2024 03:51
-
info.dcf
08-May-2024 03:51
275