Name | Last modified | Size | Description | |
---|---|---|---|---|
Parent Directory | - | |||
buildsrc-out.txt | 26-Jul-2024 03:51 | 877 | ||
buildsrc-summary.dcf | 26-Jul-2024 03:51 | 422 | ||
checksrc-out.txt | 26-Jul-2024 03:51 | 3.0K | ||
checksrc-summary.dcf | 26-Jul-2024 03:51 | 421 | ||
install-out.txt | 26-Jul-2024 03:51 | 900 | ||
install-summary.dcf | 26-Jul-2024 03:51 | 262 | ||