Index of /checkResults/devel/data-experiment-LATEST/PasillaTranscriptExpr/raw-results
Name
Last modified
Size
Description
Parent Directory
-
info.dcf
31-Mar-2023 03:51
298
nebbiolo1/
31-Mar-2023 03:51
-