Index of /checkResults/devel/data-experiment-LATEST/PWMEnrich.Hsapiens.background/raw-results
Name
Last modified
Size
Description
Parent Directory
-
info.dcf
01-May-2024 03:51
307
nebbiolo2/
01-May-2024 03:51
-