Index of /checkResults/devel/data-experiment-LATEST/OnassisJavaLibs/raw-results

[ICO]NameLast modifiedSizeDescription

[DIR]Parent Directory  -  
[   ]info.dcf21-Jun-2024 03:51 288  
[DIR]nebbiolo2/21-Jun-2024 03:51 -