Index of /checkResults/devel/data-experiment-LATEST/OMICsPCAdata/raw-results/nebbiolo2

[ICO]NameLast modifiedSizeDescription

[DIR]Parent Directory  -  
[TXT]buildsrc-out.txt14-Jun-2024 03:51 826  
[   ]buildsrc-summary.dcf14-Jun-2024 03:51 432  
[TXT]checksrc-out.txt14-Jun-2024 03:51 3.4K 
[   ]checksrc-summary.dcf14-Jun-2024 03:51 440  
[TXT]install-out.txt14-Jun-2024 03:51 952  
[   ]install-summary.dcf14-Jun-2024 03:51 269