Name | Last modified | Size | Description | |
---|---|---|---|---|
Parent Directory | - | |||
install-summary.dcf | 26-Jul-2024 03:51 | 287 | ||
buildsrc-summary.dcf | 26-Jul-2024 03:51 | 459 | ||
checksrc-summary.dcf | 26-Jul-2024 03:51 | 470 | ||
buildsrc-out.txt | 26-Jul-2024 03:51 | 894 | ||
install-out.txt | 26-Jul-2024 03:51 | 1.0K | ||
checksrc-out.txt | 26-Jul-2024 03:51 | 4.7K | ||