Back to Build/check report for BioC 3.19 experimental data |
|
This page was generated on 2024-01-16 14:48:20 -0500 (Tue, 16 Jan 2024).
Hostname | OS | Arch (*) | R version | Installed pkgs |
---|---|---|---|---|
nebbiolo1 | Linux (Ubuntu 22.04.2 LTS) | x86_64 | R Under development (unstable) (2023-11-11 r85510) -- "Unsuffered Consequences" | 4643 |
Click on any hostname to see more info about the system (e.g. compilers) (*) as reported by 'uname -p', except on Windows and Mac OS X |
Package 230/420 | Hostname | OS / Arch | INSTALL | BUILD | CHECK | ||||||||
MetaScope 1.3.4 (landing page) Aubrey Odom
| nebbiolo1 | Linux (Ubuntu 22.04.2 LTS) / x86_64 | OK | OK | ERROR | ||||||||
To the developers/maintainers of the MetaScope package: - Use the following Renviron settings to reproduce errors and warnings. - If 'R CMD check' started to fail recently on the Linux builder(s) over a missing dependency, add the missing dependency to 'Suggests:' in your DESCRIPTION file. See Renviron.bioc for more information. |
Package: MetaScope |
Version: 1.3.4 |
Command: /home/biocbuild/bbs-3.19-bioc/R/bin/R CMD check --install=check:MetaScope.install-out.txt --library=/home/biocbuild/bbs-3.19-bioc/R/site-library --timings MetaScope_1.3.4.tar.gz |
StartedAt: 2024-01-16 11:37:47 -0500 (Tue, 16 Jan 2024) |
EndedAt: 2024-01-16 11:37:50 -0500 (Tue, 16 Jan 2024) |
EllapsedTime: 2.4 seconds |
RetCode: 127 |
Status: ERROR |
CheckDir: None |
Warnings: NA |
############################################################################## ############################################################################## ### ### Running command: ### ### /home/biocbuild/bbs-3.19-bioc/R/bin/R CMD check --install=check:MetaScope.install-out.txt --library=/home/biocbuild/bbs-3.19-bioc/R/site-library --timings MetaScope_1.3.4.tar.gz ### ############################################################################## ############################################################################## /bin/sh: 1: /home/biocbuild/bbs-3.19-bioc/R/bin/R: not found
Due to an anomaly in the Build System, this output is not available. We apologize for the inconvenience.
Due to an anomaly in the Build System, the timings are not available. We apologize for the inconvenience.