Index of /checkResults/devel/data-experiment-LATEST/MetaGxPancreas/raw-results

[ICO]NameLast modifiedSizeDescription

[DIR]Parent Directory  -  
[   ]info.dcf27-Sep-2023 03:51 298  
[DIR]nebbiolo2/27-Sep-2023 03:51 -