Index of /checkResults/devel/data-experiment-LATEST/MerfishData/raw-results
Name
Last modified
Size
Description
Parent Directory
-
nebbiolo2/
10-May-2024 03:51
-
info.dcf
10-May-2024 03:51
291