Name | Last modified | Size | Description | |
---|---|---|---|---|
Parent Directory | - | |||
install-summary.dcf | 26-Jul-2024 03:51 | 252 | ||
checksrc-summary.dcf | 26-Jul-2024 03:51 | 401 | ||
buildsrc-summary.dcf | 26-Jul-2024 03:51 | 406 | ||
buildsrc-out.txt | 26-Jul-2024 03:51 | 857 | ||
install-out.txt | 26-Jul-2024 03:51 | 893 | ||
checksrc-out.txt | 26-Jul-2024 03:51 | 3.0K | ||