Name | Last modified | Size | Description | |
---|---|---|---|---|
Parent Directory | - | |||
install-summary.dcf | 14-Jun-2024 03:51 | 300 | ||
install-out.txt | 14-Jun-2024 03:51 | 957 | ||
checksrc-summary.dcf | 14-Jun-2024 03:51 | 497 | ||
checksrc-out.txt | 14-Jun-2024 03:51 | 3.1K | ||
buildsrc-summary.dcf | 14-Jun-2024 03:51 | 480 | ||
buildsrc-out.txt | 14-Jun-2024 03:51 | 953 | ||