Back to Build/check report for BioC 3.19 experimental data
ABCDEFGHI[J]KLMNOPQRSTUVWXYZ

This page was generated on 2024-03-26 14:51:26 -0400 (Tue, 26 Mar 2024).

HostnameOSArch (*)R versionInstalled pkgs
nebbiolo1Linux (Ubuntu 22.04.3 LTS)x86_64R Under development (unstable) (2024-03-18 r86148) -- "Unsuffered Consequences" 4698
Click on any hostname to see more info about the system (e.g. compilers)      (*) as reported by 'uname -p', except on Windows and Mac OS X

Package 200/425HostnameOS / ArchINSTALLBUILDCHECK
JASPAR2016 1.31.0  (landing page)
Ge Tan
Snapshot Date: 2024-03-26 07:30:03 -0400 (Tue, 26 Mar 2024)
git_url: https://git.bioconductor.org/packages/JASPAR2016
git_branch: devel
git_last_commit: 01bad6b
git_last_commit_date: 2023-10-24 09:11:43 -0400 (Tue, 24 Oct 2023)
nebbiolo1Linux (Ubuntu 22.04.3 LTS) / x86_64  OK    OK    OK  UNNEEDED, same version is already published

CHECK results for JASPAR2016 on nebbiolo1


To the developers/maintainers of the JASPAR2016 package:
- Use the following Renviron settings to reproduce errors and warnings.
- If 'R CMD check' started to fail recently on the Linux builder(s) over a missing dependency, add the missing dependency to 'Suggests:' in your DESCRIPTION file. See Renviron.bioc for more information.

raw results


Summary

Package: JASPAR2016
Version: 1.31.0
Command: /home/biocbuild/bbs-3.19-bioc/R/bin/R CMD check --install=check:JASPAR2016.install-out.txt --library=/home/biocbuild/bbs-3.19-bioc/R/site-library --timings JASPAR2016_1.31.0.tar.gz
StartedAt: 2024-03-26 11:49:04 -0400 (Tue, 26 Mar 2024)
EndedAt: 2024-03-26 11:49:19 -0400 (Tue, 26 Mar 2024)
EllapsedTime: 14.3 seconds
RetCode: 0
Status:   OK  
CheckDir: JASPAR2016.Rcheck
Warnings: 0

Command output

##############################################################################
##############################################################################
###
### Running command:
###
###   /home/biocbuild/bbs-3.19-bioc/R/bin/R CMD check --install=check:JASPAR2016.install-out.txt --library=/home/biocbuild/bbs-3.19-bioc/R/site-library --timings JASPAR2016_1.31.0.tar.gz
###
##############################################################################
##############################################################################


* using log directory ‘/home/biocbuild/bbs-3.19-data-experiment/meat/JASPAR2016.Rcheck’
* using R Under development (unstable) (2024-03-18 r86148)
* using platform: x86_64-pc-linux-gnu
* R was compiled by
    gcc (Ubuntu 11.4.0-1ubuntu1~22.04) 11.4.0
    GNU Fortran (Ubuntu 11.4.0-1ubuntu1~22.04) 11.4.0
* running under: Ubuntu 22.04.4 LTS
* using session charset: UTF-8
* checking for file ‘JASPAR2016/DESCRIPTION’ ... OK
* checking extension type ... Package
* this is package ‘JASPAR2016’ version ‘1.31.0’
* checking package namespace information ... OK
* checking package dependencies ... OK
* checking if this is a source package ... OK
* checking if there is a namespace ... OK
* checking for hidden files and directories ... OK
* checking for portable file names ... OK
* checking for sufficient/correct file permissions ... OK
* checking whether package ‘JASPAR2016’ can be installed ... OK
* checking installed package size ... NOTE
  installed size is 12.9Mb
  sub-directories of 1Mb or more:
    extdata  12.8Mb
* checking package directory ... OK
* checking DESCRIPTION meta-information ... OK
* checking top-level files ... OK
* checking for left-over files ... OK
* checking index information ... OK
* checking package subdirectories ... OK
* checking code files for non-ASCII characters ... OK
* checking R files for syntax errors ... OK
* checking whether the package can be loaded ... OK
* checking whether the package can be loaded with stated dependencies ... OK
* checking whether the package can be unloaded cleanly ... OK
* checking whether the namespace can be loaded with stated dependencies ... OK
* checking whether the namespace can be unloaded cleanly ... OK
* checking loading without being on the library search path ... OK
* checking whether startup messages can be suppressed ... OK
* checking dependencies in R code ... OK
* checking S3 generic/method consistency ... OK
* checking replacement functions ... OK
* checking foreign function calls ... OK
* checking R code for possible problems ... OK
* checking Rd files ... OK
* checking Rd metadata ... OK
* checking Rd cross-references ... OK
* checking for missing documentation entries ... OK
* checking for code/documentation mismatches ... OK
* checking Rd \usage sections ... OK
* checking Rd contents ... OK
* checking for unstated dependencies in examples ... OK
* checking examples ... OK
* checking PDF version of manual ... OK
* DONE

Status: 1 NOTE
See
  ‘/home/biocbuild/bbs-3.19-data-experiment/meat/JASPAR2016.Rcheck/00check.log’
for details.


Installation output

JASPAR2016.Rcheck/00install.out

##############################################################################
##############################################################################
###
### Running command:
###
###   /home/biocbuild/bbs-3.19-bioc/R/bin/R CMD INSTALL JASPAR2016
###
##############################################################################
##############################################################################


* installing to library ‘/home/biocbuild/bbs-3.19-bioc/R/site-library’
* installing *source* package ‘JASPAR2016’ ...
** using staged installation
** R
** inst
** byte-compile and prepare package for lazy loading
** help
*** installing help indices
** building package indices
** testing if installed package can be loaded from temporary location
** testing if installed package can be loaded from final location
** testing if installed package keeps a record of temporary installation path
* DONE (JASPAR2016)

Tests output


Example timings

JASPAR2016.Rcheck/JASPAR2016-Ex.timings

nameusersystemelapsed
JASPAR2016-class0.0000.0000.001