Name | Last modified | Size | Description | |
---|---|---|---|---|
Parent Directory | - | |||
install-summary.dcf | 26-Jul-2024 03:51 | 267 | ||
install-out.txt | 26-Jul-2024 03:51 | 972 | ||
checksrc-summary.dcf | 12-Jun-2024 03:51 | 430 | ||
checksrc-out.txt | 12-Jun-2024 03:51 | 5.6K | ||
buildsrc-summary.dcf | 26-Jul-2024 03:51 | 342 | ||
buildsrc-out.txt | 26-Jul-2024 03:51 | 4.0K | ||