Name | Last modified | Size | Description | |
---|---|---|---|---|
Parent Directory | - | |||
buildsrc-out.txt | 26-Jul-2024 03:51 | 1.1K | ||
buildsrc-summary.dcf | 26-Jul-2024 03:51 | 409 | ||
checksrc-out.txt | 26-Jul-2024 03:51 | 3.4K | ||
checksrc-summary.dcf | 26-Jul-2024 03:51 | 404 | ||
install-out.txt | 26-Jul-2024 03:51 | 954 | ||
install-summary.dcf | 26-Jul-2024 03:51 | 254 | ||