Name | Last modified | Size | Description | |
---|---|---|---|---|
Parent Directory | - | |||
buildsrc-out.txt | 26-Jul-2024 03:51 | 818 | ||
buildsrc-summary.dcf | 26-Jul-2024 03:51 | 426 | ||
checksrc-out.txt | 26-Jul-2024 03:51 | 3.4K | ||
checksrc-summary.dcf | 26-Jul-2024 03:51 | 425 | ||
install-out.txt | 26-Jul-2024 03:51 | 1.0K | ||
install-summary.dcf | 26-Jul-2024 03:51 | 265 | ||