Index of /checkResults/devel/data-experiment-LATEST/HarmanData/raw-results
Name
Last modified
Size
Description
Parent Directory
-
info.dcf
08-May-2024 03:51
267
nebbiolo2/
08-May-2024 03:51
-