Back to Build/check report for BioC 3.19 experimental data
ABCDEFG[H]IJKLMNOPQRSTUVWXYZ

This page was generated on 2024-03-26 14:51:26 -0400 (Tue, 26 Mar 2024).

HostnameOSArch (*)R versionInstalled pkgs
nebbiolo1Linux (Ubuntu 22.04.3 LTS)x86_64R Under development (unstable) (2024-03-18 r86148) -- "Unsuffered Consequences" 4698
Click on any hostname to see more info about the system (e.g. compilers)      (*) as reported by 'uname -p', except on Windows and Mac OS X

Package 187/425HostnameOS / ArchINSTALLBUILDCHECK
HIVcDNAvantWout03 1.43.0  (landing page)
Chris Fraley
Snapshot Date: 2024-03-26 07:30:03 -0400 (Tue, 26 Mar 2024)
git_url: https://git.bioconductor.org/packages/HIVcDNAvantWout03
git_branch: devel
git_last_commit: fbf0830
git_last_commit_date: 2023-10-24 08:53:57 -0400 (Tue, 24 Oct 2023)
nebbiolo1Linux (Ubuntu 22.04.3 LTS) / x86_64  OK    OK    WARNINGS  UNNEEDED, same version is already published

BUILD results for HIVcDNAvantWout03 on nebbiolo1


To the developers/maintainers of the HIVcDNAvantWout03 package:
- Use the following Renviron settings to reproduce errors and warnings.
- If 'R CMD check' started to fail recently on the Linux builder(s) over a missing dependency, add the missing dependency to 'Suggests:' in your DESCRIPTION file. See Renviron.bioc for more information.

raw results


Summary

Package: HIVcDNAvantWout03
Version: 1.43.0
Command: /home/biocbuild/bbs-3.19-bioc/R/bin/R CMD build --keep-empty-dirs --no-resave-data HIVcDNAvantWout03
StartedAt: 2024-03-26 10:33:08 -0400 (Tue, 26 Mar 2024)
EndedAt: 2024-03-26 10:33:13 -0400 (Tue, 26 Mar 2024)
EllapsedTime: 5.0 seconds
RetCode: 0
Status:   OK  
PackageFile: HIVcDNAvantWout03_1.43.0.tar.gz
PackageFileSize: 1.711 MiB

Command output

##############################################################################
##############################################################################
###
### Running command:
###
###   /home/biocbuild/bbs-3.19-bioc/R/bin/R CMD build --keep-empty-dirs --no-resave-data HIVcDNAvantWout03
###
##############################################################################
##############################################################################


* checking for file ‘HIVcDNAvantWout03/DESCRIPTION’ ... OK
* preparing ‘HIVcDNAvantWout03’:
* checking DESCRIPTION meta-information ... OK
* checking whether ‘INDEX’ is up-to-date ... NO
* use ‘--force’ to remove the existing ‘INDEX’
* checking for LF line-endings in source and make files and shell scripts
* checking for empty or unneeded directories
* looking to see if a ‘data/datalist’ file should be added
Read 450000 items
Read 450000 items
* building ‘HIVcDNAvantWout03_1.43.0.tar.gz’