Index of /checkResults/devel/data-experiment-LATEST/HDCytoData/raw-results/nebbiolo2

[ICO]NameLast modifiedSizeDescription

[DIR]Parent Directory  -  
[TXT]buildsrc-out.txt05-Aug-2022 03:50 818  
[   ]buildsrc-summary.dcf05-Aug-2022 03:50 426  
[TXT]checksrc-out.txt05-Aug-2022 03:50 3.0K 
[   ]checksrc-summary.dcf05-Aug-2022 03:50 436  
[TXT]install-out.txt05-Aug-2022 03:50 1.0K 
[   ]install-summary.dcf05-Aug-2022 03:50 265